BEGIN:VCALENDAR
VERSION:2.0
PRODID:icalendar-ruby
CALSCALE:GREGORIAN
BEGIN:VEVENT
DTSTAMP:20260421T143030Z
UID:1b08b219-9964-4e2e-a3cf-cfdc94942ac5
DTSTART;VALUE=DATE:20190905
DESCRIPTION:Property ID# 459347\, Locatoin: Auction Rooms\, 247 Cameron Roa
 d\, Tauranga (unless sold prior)\, Time: 1:00PM
SUMMARY:Auction for 
END:VEVENT
END:VCALENDAR
