BEGIN:VCALENDAR
VERSION:2.0
PRODID:icalendar-ruby
CALSCALE:GREGORIAN
BEGIN:VEVENT
DTSTAMP:20260419T121700Z
UID:0695228e-c2fa-4a90-aaeb-a7205b50e3f5
DTSTART;VALUE=DATE:20210324
DESCRIPTION:Property ID# 503486\, Locatoin: In rooms\, Time: 4:00PM
SUMMARY:Auction for 
END:VEVENT
END:VCALENDAR
