BEGIN:VCALENDAR
VERSION:2.0
PRODID:icalendar-ruby
CALSCALE:GREGORIAN
BEGIN:VEVENT
DTSTAMP:20260419T121701Z
UID:a9384b2c-5e92-413a-94ad-88451a5d3bdb
DTSTART;VALUE=DATE:20210415
DESCRIPTION:Property ID# 505643\, Locatoin: Auction Rooms\, 247 Cameron Roa
 d\, Tauranga\, Time: 1:00PM
SUMMARY:Auction for 
END:VEVENT
END:VCALENDAR
