BEGIN:VCALENDAR
VERSION:2.0
PRODID:icalendar-ruby
CALSCALE:GREGORIAN
BEGIN:VEVENT
DTSTAMP:20260420T132902Z
UID:a9d1ab2c-77bb-4947-af76-3b01cf48b5cc
DTSTART;VALUE=DATE:20210622
DESCRIPTION:Property ID# 510976\, Time: 4:00PM
SUMMARY:Auction for 
END:VEVENT
END:VCALENDAR
