BEGIN:VCALENDAR
VERSION:2.0
PRODID:icalendar-ruby
CALSCALE:GREGORIAN
BEGIN:VEVENT
DTSTAMP:20260419T122104Z
UID:7019743a-6171-4126-a2c8-1b8da39bf4fa
DTSTART;VALUE=DATE:20210701
DESCRIPTION:Property ID# 511098\, Locatoin: In rooms\, Time: 1:00PM
SUMMARY:Auction for 
END:VEVENT
END:VCALENDAR
