BEGIN:VCALENDAR
VERSION:2.0
PRODID:icalendar-ruby
CALSCALE:GREGORIAN
BEGIN:VEVENT
DTSTAMP:20260420T010408Z
UID:7ff30dc4-5ebf-40dd-8899-6ee148e80a1f
DTSTART;VALUE=DATE:20211014
DESCRIPTION:Property ID# 517148\, Locatoin: 247 Cameron Road (Unless Sold P
 rior)\, Time: 1:00PM
SUMMARY:Auction for 
END:VEVENT
END:VCALENDAR
