BEGIN:VCALENDAR
VERSION:2.0
PRODID:icalendar-ruby
CALSCALE:GREGORIAN
BEGIN:VEVENT
DTSTAMP:20260420T085402Z
UID:b90380bf-1e90-44f2-a732-140294bb494f
DTSTART;VALUE=DATE:20211013
DESCRIPTION:Property ID# 517681\, Locatoin: Ray White Auction Rooms\, 5/9 D
 omain Road\, Papamoa (unless sold prior)\, Time: 1:00PM
SUMMARY:Auction for 
END:VEVENT
END:VCALENDAR
