BEGIN:VCALENDAR
VERSION:2.0
PRODID:icalendar-ruby
CALSCALE:GREGORIAN
BEGIN:VEVENT
DTSTAMP:20260420T051305Z
UID:42414a3e-6218-4017-b503-223f296a55ab
DTSTART;VALUE=DATE:20241211
DESCRIPTION:Property ID# 584341\, Locatoin: Ray White offices\, Time: 1:00P
 M
SUMMARY:Auction for 
END:VEVENT
END:VCALENDAR
