BEGIN:VCALENDAR
VERSION:2.0
PRODID:icalendar-ruby
CALSCALE:GREGORIAN
BEGIN:VEVENT
DTSTAMP:20260423T084202Z
UID:6eb34622-3b8d-4532-ba78-1e28bbceb87a
DTSTART;VALUE=DATE:20250820
DESCRIPTION:Property ID# 595470\, Time: 2:00PM
SUMMARY:Auction for 
END:VEVENT
END:VCALENDAR
