BEGIN:VCALENDAR
VERSION:2.0
PRODID:icalendar-ruby
CALSCALE:GREGORIAN
BEGIN:VEVENT
DTSTAMP:20260421T144331Z
UID:adede362-9cc2-4a46-a78a-4c9f20f3e2d7
DTSTART;VALUE=DATE:20251016
DESCRIPTION:Property ID# 597782\, Locatoin: EVES Auction Room: 247 Cameron 
 Road\, Tauranga (unless sold prior)	\, Time: 1:00PM
SUMMARY:Auction for 
END:VEVENT
END:VCALENDAR
