BEGIN:VCALENDAR
VERSION:2.0
PRODID:icalendar-ruby
CALSCALE:GREGORIAN
BEGIN:VEVENT
DTSTAMP:20260423T100704Z
UID:780524b6-f27b-4224-9ae3-cda5e244b26a
DTSTART;VALUE=DATE:20251106
DESCRIPTION:Property ID# 599322\, Time: 4:00PM
SUMMARY:Auction for 
END:VEVENT
END:VCALENDAR
