BEGIN:VCALENDAR
VERSION:2.0
PRODID:icalendar-ruby
CALSCALE:GREGORIAN
BEGIN:VEVENT
DTSTAMP:20260420T105134Z
UID:f2186bf7-a08d-4948-b40c-ed40080d9d92
DTSTART;VALUE=DATE:20260211
DESCRIPTION:Property ID# 602049\, Time: 1:00PM
SUMMARY:Auction for 
END:VEVENT
END:VCALENDAR
