BEGIN:VCALENDAR
VERSION:2.0
PRODID:icalendar-ruby
CALSCALE:GREGORIAN
BEGIN:VEVENT
DTSTAMP:20260422T164708Z
UID:796bca48-5dc6-449f-b07f-d8be5566c9d0
DTSTART;VALUE=DATE:20260325
DESCRIPTION:Property ID# 604389\, Time: 1:00PM
SUMMARY:Auction for 
END:VEVENT
END:VCALENDAR
