BEGIN:VCALENDAR
VERSION:2.0
PRODID:icalendar-ruby
CALSCALE:GREGORIAN
BEGIN:VEVENT
DTSTAMP:20260420T120935Z
UID:af3d5d04-4591-42c1-a9cd-1ebbaa5dd21e
DTSTART;VALUE=DATE:20260320
DESCRIPTION:Property ID# 605329\, Locatoin: 100 Condor Drive\, Pyes Pa\, Ti
 me: 4:00PM
SUMMARY:Auction for 
END:VEVENT
END:VCALENDAR
