BEGIN:VCALENDAR
VERSION:2.0
PRODID:icalendar-ruby
CALSCALE:GREGORIAN
BEGIN:VEVENT
DTSTAMP:20260423T133728Z
UID:27895cd7-8f05-463f-aaa1-c7ea9950e138
DTSTART;VALUE=DATE:20260514
DESCRIPTION:Property ID# 607140\, Locatoin: Eves Auction Rooms\, 247 Camero
 n Road\, Tauranga\, Time: 12:00PM
SUMMARY:Auction for 655 Grenada Street
END:VEVENT
END:VCALENDAR
