BEGIN:VCALENDAR
VERSION:2.0
PRODID:icalendar-ruby
CALSCALE:GREGORIAN
BEGIN:VEVENT
DTSTAMP:20260419T121716Z
UID:00d9d264-e98b-4bea-928b-8adc91ba9de0
DTSTART;TZID=Pacific/Auckland:20260418T130000
DTEND;TZID=Pacific/Auckland:20260418T134500
DESCRIPTION:Property ID# 604370
SUMMARY:Openhome for 782A Papamoa Beach Road
END:VEVENT
END:VCALENDAR
