BEGIN:VCALENDAR
VERSION:2.0
PRODID:icalendar-ruby
CALSCALE:GREGORIAN
BEGIN:VEVENT
DTSTAMP:20260419T122007Z
UID:41ce8484-0e34-42f3-8458-b190aa545ec8
DTSTART;TZID=Pacific/Auckland:20260419T133000
DTEND;TZID=Pacific/Auckland:20260419T140000
DESCRIPTION:Property ID# 602782
SUMMARY:Openhome for 79 Domain Road
END:VEVENT
END:VCALENDAR
