BEGIN:VCALENDAR
VERSION:2.0
PRODID:icalendar-ruby
CALSCALE:GREGORIAN
BEGIN:VEVENT
DTSTAMP:20260420T144937Z
UID:24e27566-7d3c-42ac-88ca-1a3f1f663483
DTSTART;TZID=Pacific/Auckland:20260426T123000
DTEND;TZID=Pacific/Auckland:20260426T130000
DESCRIPTION:Property ID# 605976
SUMMARY:Openhome for 30 Mauritius Key
END:VEVENT
END:VCALENDAR
