BEGIN:VCALENDAR
VERSION:2.0
PRODID:icalendar-ruby
CALSCALE:GREGORIAN
BEGIN:VEVENT
DTSTAMP:20260423T133830Z
UID:4cb70c14-2fa0-4df1-8e0b-9bc3991804a4
DTSTART;TZID=Pacific/Auckland:20260426T133000
DTEND;TZID=Pacific/Auckland:20260426T140000
DESCRIPTION:Property ID# 607140
SUMMARY:Openhome for 655 Grenada Street
END:VEVENT
END:VCALENDAR
